BEGIN:VCALENDAR
VERSION:2.0
PRODID:-//Parma Rod &amp; Gun Club - ECPv6.15.17.1//NONSGML v1.0//EN
CALSCALE:GREGORIAN
METHOD:PUBLISH
X-ORIGINAL-URL:https://parma-new.cardinalacres.com
X-WR-CALDESC:Events for Parma Rod &amp; Gun Club
REFRESH-INTERVAL;VALUE=DURATION:PT1H
X-Robots-Tag:noindex
X-PUBLISHED-TTL:PT1H
BEGIN:VTIMEZONE
TZID:America/Boise
BEGIN:DAYLIGHT
TZOFFSETFROM:-0700
TZOFFSETTO:-0600
TZNAME:MDT
DTSTART:20290311T090000
END:DAYLIGHT
BEGIN:STANDARD
TZOFFSETFROM:-0600
TZOFFSETTO:-0700
TZNAME:MST
DTSTART:20291104T080000
END:STANDARD
BEGIN:DAYLIGHT
TZOFFSETFROM:-0700
TZOFFSETTO:-0600
TZNAME:MDT
DTSTART:20300310T090000
END:DAYLIGHT
BEGIN:STANDARD
TZOFFSETFROM:-0600
TZOFFSETTO:-0700
TZNAME:MST
DTSTART:20301103T080000
END:STANDARD
BEGIN:DAYLIGHT
TZOFFSETFROM:-0700
TZOFFSETTO:-0600
TZNAME:MDT
DTSTART:20310309T090000
END:DAYLIGHT
BEGIN:STANDARD
TZOFFSETFROM:-0600
TZOFFSETTO:-0700
TZNAME:MST
DTSTART:20311102T080000
END:STANDARD
BEGIN:DAYLIGHT
TZOFFSETFROM:-0700
TZOFFSETTO:-0600
TZNAME:MDT
DTSTART:20320314T090000
END:DAYLIGHT
BEGIN:STANDARD
TZOFFSETFROM:-0600
TZOFFSETTO:-0700
TZNAME:MST
DTSTART:20321107T080000
END:STANDARD
END:VTIMEZONE
BEGIN:VEVENT
DTSTART;TZID=America/Boise:20301029T080000
DTEND;TZID=America/Boise:20301029T170000
DTSTAMP:20260419T171738
CREATED:20260301T203826Z
LAST-MODIFIED:20260301T213504Z
UID:10001010-1919491200-1919523600@parma-new.cardinalacres.com
SUMMARY:Steel Challenge
DESCRIPTION:Steel Challenge \nstart 10:00
URL:https://parma-new.cardinalacres.com/event/steel-challenge/2030-10-29/
CATEGORIES:Steel Challenge
ATTACH;FMTTYPE=image/png:https://parma-new.cardinalacres.com/wp-content/uploads/2025/12/scsa_logo.png
ORGANIZER;CN="Mike Wilmot":MAILTO:mike_vtx@hotmail.com
END:VEVENT
BEGIN:VEVENT
DTSTART;TZID=America/Boise:20301105T080000
DTEND;TZID=America/Boise:20301105T170000
DTSTAMP:20260419T171738
CREATED:20260301T203826Z
LAST-MODIFIED:20260301T213504Z
UID:10001011-1920096000-1920128400@parma-new.cardinalacres.com
SUMMARY:Steel Challenge
DESCRIPTION:Steel Challenge \nstart 10:00
URL:https://parma-new.cardinalacres.com/event/steel-challenge/2030-11-05/
CATEGORIES:Steel Challenge
ATTACH;FMTTYPE=image/png:https://parma-new.cardinalacres.com/wp-content/uploads/2025/12/scsa_logo.png
ORGANIZER;CN="Mike Wilmot":MAILTO:mike_vtx@hotmail.com
END:VEVENT
BEGIN:VEVENT
DTSTART;TZID=America/Boise:20301112T080000
DTEND;TZID=America/Boise:20301112T170000
DTSTAMP:20260419T171739
CREATED:20260301T203826Z
LAST-MODIFIED:20260301T213504Z
UID:10001012-1920700800-1920733200@parma-new.cardinalacres.com
SUMMARY:Steel Challenge
DESCRIPTION:Steel Challenge \nstart 10:00
URL:https://parma-new.cardinalacres.com/event/steel-challenge/2030-11-12/
CATEGORIES:Steel Challenge
ATTACH;FMTTYPE=image/png:https://parma-new.cardinalacres.com/wp-content/uploads/2025/12/scsa_logo.png
ORGANIZER;CN="Mike Wilmot":MAILTO:mike_vtx@hotmail.com
END:VEVENT
BEGIN:VEVENT
DTSTART;TZID=America/Boise:20301119T080000
DTEND;TZID=America/Boise:20301119T170000
DTSTAMP:20260419T171739
CREATED:20260301T203826Z
LAST-MODIFIED:20260301T213504Z
UID:10001013-1921305600-1921338000@parma-new.cardinalacres.com
SUMMARY:Steel Challenge
DESCRIPTION:Steel Challenge \nstart 10:00
URL:https://parma-new.cardinalacres.com/event/steel-challenge/2030-11-19/
CATEGORIES:Steel Challenge
ATTACH;FMTTYPE=image/png:https://parma-new.cardinalacres.com/wp-content/uploads/2025/12/scsa_logo.png
ORGANIZER;CN="Mike Wilmot":MAILTO:mike_vtx@hotmail.com
END:VEVENT
BEGIN:VEVENT
DTSTART;TZID=America/Boise:20301126T080000
DTEND;TZID=America/Boise:20301126T170000
DTSTAMP:20260419T171739
CREATED:20260301T203826Z
LAST-MODIFIED:20260301T213504Z
UID:10001014-1921910400-1921942800@parma-new.cardinalacres.com
SUMMARY:Steel Challenge
DESCRIPTION:Steel Challenge \nstart 10:00
URL:https://parma-new.cardinalacres.com/event/steel-challenge/2030-11-26/
CATEGORIES:Steel Challenge
ATTACH;FMTTYPE=image/png:https://parma-new.cardinalacres.com/wp-content/uploads/2025/12/scsa_logo.png
ORGANIZER;CN="Mike Wilmot":MAILTO:mike_vtx@hotmail.com
END:VEVENT
BEGIN:VEVENT
DTSTART;TZID=America/Boise:20301203T080000
DTEND;TZID=America/Boise:20301203T170000
DTSTAMP:20260419T171739
CREATED:20260301T203826Z
LAST-MODIFIED:20260301T213504Z
UID:10001015-1922515200-1922547600@parma-new.cardinalacres.com
SUMMARY:Steel Challenge
DESCRIPTION:Steel Challenge \nstart 10:00
URL:https://parma-new.cardinalacres.com/event/steel-challenge/2030-12-03/
CATEGORIES:Steel Challenge
ATTACH;FMTTYPE=image/png:https://parma-new.cardinalacres.com/wp-content/uploads/2025/12/scsa_logo.png
ORGANIZER;CN="Mike Wilmot":MAILTO:mike_vtx@hotmail.com
END:VEVENT
BEGIN:VEVENT
DTSTART;TZID=America/Boise:20301210T080000
DTEND;TZID=America/Boise:20301210T170000
DTSTAMP:20260419T171739
CREATED:20260301T203826Z
LAST-MODIFIED:20260301T213504Z
UID:10001016-1923120000-1923152400@parma-new.cardinalacres.com
SUMMARY:Steel Challenge
DESCRIPTION:Steel Challenge \nstart 10:00
URL:https://parma-new.cardinalacres.com/event/steel-challenge/2030-12-10/
CATEGORIES:Steel Challenge
ATTACH;FMTTYPE=image/png:https://parma-new.cardinalacres.com/wp-content/uploads/2025/12/scsa_logo.png
ORGANIZER;CN="Mike Wilmot":MAILTO:mike_vtx@hotmail.com
END:VEVENT
BEGIN:VEVENT
DTSTART;TZID=America/Boise:20301217T080000
DTEND;TZID=America/Boise:20301217T170000
DTSTAMP:20260419T171739
CREATED:20260301T203826Z
LAST-MODIFIED:20260301T213504Z
UID:10001017-1923724800-1923757200@parma-new.cardinalacres.com
SUMMARY:Steel Challenge
DESCRIPTION:Steel Challenge \nstart 10:00
URL:https://parma-new.cardinalacres.com/event/steel-challenge/2030-12-17/
CATEGORIES:Steel Challenge
ATTACH;FMTTYPE=image/png:https://parma-new.cardinalacres.com/wp-content/uploads/2025/12/scsa_logo.png
ORGANIZER;CN="Mike Wilmot":MAILTO:mike_vtx@hotmail.com
END:VEVENT
BEGIN:VEVENT
DTSTART;TZID=America/Boise:20301224T080000
DTEND;TZID=America/Boise:20301224T170000
DTSTAMP:20260419T171739
CREATED:20260301T203826Z
LAST-MODIFIED:20260301T213504Z
UID:10001018-1924329600-1924362000@parma-new.cardinalacres.com
SUMMARY:Steel Challenge
DESCRIPTION:Steel Challenge \nstart 10:00
URL:https://parma-new.cardinalacres.com/event/steel-challenge/2030-12-24/
CATEGORIES:Steel Challenge
ATTACH;FMTTYPE=image/png:https://parma-new.cardinalacres.com/wp-content/uploads/2025/12/scsa_logo.png
ORGANIZER;CN="Mike Wilmot":MAILTO:mike_vtx@hotmail.com
END:VEVENT
BEGIN:VEVENT
DTSTART;TZID=America/Boise:20301231T080000
DTEND;TZID=America/Boise:20301231T170000
DTSTAMP:20260419T171739
CREATED:20260301T203826Z
LAST-MODIFIED:20260301T213504Z
UID:10001019-1924934400-1924966800@parma-new.cardinalacres.com
SUMMARY:Steel Challenge
DESCRIPTION:Steel Challenge \nstart 10:00
URL:https://parma-new.cardinalacres.com/event/steel-challenge/2030-12-31/
CATEGORIES:Steel Challenge
ATTACH;FMTTYPE=image/png:https://parma-new.cardinalacres.com/wp-content/uploads/2025/12/scsa_logo.png
ORGANIZER;CN="Mike Wilmot":MAILTO:mike_vtx@hotmail.com
END:VEVENT
BEGIN:VEVENT
DTSTART;TZID=America/Boise:20310107T080000
DTEND;TZID=America/Boise:20310107T170000
DTSTAMP:20260419T171739
CREATED:20260301T203826Z
LAST-MODIFIED:20260301T213504Z
UID:10001020-1925539200-1925571600@parma-new.cardinalacres.com
SUMMARY:Steel Challenge
DESCRIPTION:Steel Challenge \nstart 10:00
URL:https://parma-new.cardinalacres.com/event/steel-challenge/2031-01-07/
CATEGORIES:Steel Challenge
ATTACH;FMTTYPE=image/png:https://parma-new.cardinalacres.com/wp-content/uploads/2025/12/scsa_logo.png
ORGANIZER;CN="Mike Wilmot":MAILTO:mike_vtx@hotmail.com
END:VEVENT
BEGIN:VEVENT
DTSTART;TZID=America/Boise:20310114T080000
DTEND;TZID=America/Boise:20310114T170000
DTSTAMP:20260419T171739
CREATED:20260301T203826Z
LAST-MODIFIED:20260301T213504Z
UID:10001021-1926144000-1926176400@parma-new.cardinalacres.com
SUMMARY:Steel Challenge
DESCRIPTION:Steel Challenge \nstart 10:00
URL:https://parma-new.cardinalacres.com/event/steel-challenge/2031-01-14/
CATEGORIES:Steel Challenge
ATTACH;FMTTYPE=image/png:https://parma-new.cardinalacres.com/wp-content/uploads/2025/12/scsa_logo.png
ORGANIZER;CN="Mike Wilmot":MAILTO:mike_vtx@hotmail.com
END:VEVENT
BEGIN:VEVENT
DTSTART;TZID=America/Boise:20310121T080000
DTEND;TZID=America/Boise:20310121T170000
DTSTAMP:20260419T171739
CREATED:20260301T203826Z
LAST-MODIFIED:20260301T213504Z
UID:10001022-1926748800-1926781200@parma-new.cardinalacres.com
SUMMARY:Steel Challenge
DESCRIPTION:Steel Challenge \nstart 10:00
URL:https://parma-new.cardinalacres.com/event/steel-challenge/2031-01-21/
CATEGORIES:Steel Challenge
ATTACH;FMTTYPE=image/png:https://parma-new.cardinalacres.com/wp-content/uploads/2025/12/scsa_logo.png
ORGANIZER;CN="Mike Wilmot":MAILTO:mike_vtx@hotmail.com
END:VEVENT
BEGIN:VEVENT
DTSTART;TZID=America/Boise:20310128T080000
DTEND;TZID=America/Boise:20310128T170000
DTSTAMP:20260419T171739
CREATED:20260301T203826Z
LAST-MODIFIED:20260301T213504Z
UID:10001023-1927353600-1927386000@parma-new.cardinalacres.com
SUMMARY:Steel Challenge
DESCRIPTION:Steel Challenge \nstart 10:00
URL:https://parma-new.cardinalacres.com/event/steel-challenge/2031-01-28/
CATEGORIES:Steel Challenge
ATTACH;FMTTYPE=image/png:https://parma-new.cardinalacres.com/wp-content/uploads/2025/12/scsa_logo.png
ORGANIZER;CN="Mike Wilmot":MAILTO:mike_vtx@hotmail.com
END:VEVENT
BEGIN:VEVENT
DTSTART;TZID=America/Boise:20310204T080000
DTEND;TZID=America/Boise:20310204T170000
DTSTAMP:20260419T171739
CREATED:20260301T203826Z
LAST-MODIFIED:20260301T213504Z
UID:10001024-1927958400-1927990800@parma-new.cardinalacres.com
SUMMARY:Steel Challenge
DESCRIPTION:Steel Challenge \nstart 10:00
URL:https://parma-new.cardinalacres.com/event/steel-challenge/2031-02-04/
CATEGORIES:Steel Challenge
ATTACH;FMTTYPE=image/png:https://parma-new.cardinalacres.com/wp-content/uploads/2025/12/scsa_logo.png
ORGANIZER;CN="Mike Wilmot":MAILTO:mike_vtx@hotmail.com
END:VEVENT
BEGIN:VEVENT
DTSTART;TZID=America/Boise:20310211T080000
DTEND;TZID=America/Boise:20310211T170000
DTSTAMP:20260419T171739
CREATED:20260301T203826Z
LAST-MODIFIED:20260301T213504Z
UID:10001025-1928563200-1928595600@parma-new.cardinalacres.com
SUMMARY:Steel Challenge
DESCRIPTION:Steel Challenge \nstart 10:00
URL:https://parma-new.cardinalacres.com/event/steel-challenge/2031-02-11/
CATEGORIES:Steel Challenge
ATTACH;FMTTYPE=image/png:https://parma-new.cardinalacres.com/wp-content/uploads/2025/12/scsa_logo.png
ORGANIZER;CN="Mike Wilmot":MAILTO:mike_vtx@hotmail.com
END:VEVENT
BEGIN:VEVENT
DTSTART;TZID=America/Boise:20310218T080000
DTEND;TZID=America/Boise:20310218T170000
DTSTAMP:20260419T171739
CREATED:20260301T203826Z
LAST-MODIFIED:20260301T213504Z
UID:10001026-1929168000-1929200400@parma-new.cardinalacres.com
SUMMARY:Steel Challenge
DESCRIPTION:Steel Challenge \nstart 10:00
URL:https://parma-new.cardinalacres.com/event/steel-challenge/2031-02-18/
CATEGORIES:Steel Challenge
ATTACH;FMTTYPE=image/png:https://parma-new.cardinalacres.com/wp-content/uploads/2025/12/scsa_logo.png
ORGANIZER;CN="Mike Wilmot":MAILTO:mike_vtx@hotmail.com
END:VEVENT
BEGIN:VEVENT
DTSTART;TZID=America/Boise:20310225T080000
DTEND;TZID=America/Boise:20310225T170000
DTSTAMP:20260419T171739
CREATED:20260301T203826Z
LAST-MODIFIED:20260301T213504Z
UID:10001027-1929772800-1929805200@parma-new.cardinalacres.com
SUMMARY:Steel Challenge
DESCRIPTION:Steel Challenge \nstart 10:00
URL:https://parma-new.cardinalacres.com/event/steel-challenge/2031-02-25/
CATEGORIES:Steel Challenge
ATTACH;FMTTYPE=image/png:https://parma-new.cardinalacres.com/wp-content/uploads/2025/12/scsa_logo.png
ORGANIZER;CN="Mike Wilmot":MAILTO:mike_vtx@hotmail.com
END:VEVENT
END:VCALENDAR